BEGIN:VCALENDAR
VERSION:2.0
PRODID:-//The Marquee Group - ECPv6.15.20//NONSGML v1.0//EN
CALSCALE:GREGORIAN
METHOD:PUBLISH
X-WR-CALNAME:The Marquee Group
X-ORIGINAL-URL:https://marqueegroup.ca
X-WR-CALDESC:Events for The Marquee Group
REFRESH-INTERVAL;VALUE=DURATION:PT1H
X-Robots-Tag:noindex
X-PUBLISHED-TTL:PT1H
BEGIN:VTIMEZONE
TZID:America/Toronto
BEGIN:DAYLIGHT
TZOFFSETFROM:-0500
TZOFFSETTO:-0400
TZNAME:EDT
DTSTART:20180311T070000
END:DAYLIGHT
BEGIN:STANDARD
TZOFFSETFROM:-0400
TZOFFSETTO:-0500
TZNAME:EST
DTSTART:20181104T060000
END:STANDARD
BEGIN:DAYLIGHT
TZOFFSETFROM:-0500
TZOFFSETTO:-0400
TZNAME:EDT
DTSTART:20190310T070000
END:DAYLIGHT
BEGIN:STANDARD
TZOFFSETFROM:-0400
TZOFFSETTO:-0500
TZNAME:EST
DTSTART:20191103T060000
END:STANDARD
BEGIN:DAYLIGHT
TZOFFSETFROM:-0500
TZOFFSETTO:-0400
TZNAME:EDT
DTSTART:20200308T070000
END:DAYLIGHT
BEGIN:STANDARD
TZOFFSETFROM:-0400
TZOFFSETTO:-0500
TZNAME:EST
DTSTART:20201101T060000
END:STANDARD
END:VTIMEZONE
BEGIN:VEVENT
DTSTART;TZID=America/Toronto:20190403T083000
DTEND;TZID=America/Toronto:20190403T170000
DTSTAMP:20260421T044408
CREATED:20190227T002655Z
LAST-MODIFIED:20190401T143225Z
UID:2205-1554280200-1554310800@marqueegroup.ca
SUMMARY:Merger Modeling - Toronto (Marquee)
DESCRIPTION:This hands-on course focuses on the skills required to design and create a powerful model to analyze the impact of a merger or acquisition.Issues related to combining two companies will be reviewed and discussed. The course will be taught from the perspective of finance professionals who need to quickly assess the impact of a merger between publicly traded companies. \nView Full Outline\nWho Will Benefit\nThis seminar is designed for anyone who wish to improve their financial modelling skills and those involved in preparing financial budgets\, forecasts and business valuation. \nEligible for CFA & CPA professional development hours. \nSpecial Instructions\n\nAttendees must bring their own laptop with access to Excel.\nAttendees should have a solid grasp of basic accounting fundamentals and proficiency with Excel prior to attending.\n\nStudent Pricing Available\nTo obtain a 40% discount\, please email a scanned copy or photo of your student ID that clearly shows your name and expiration date to info@marqueegroup.ca. Once we confirm your status as a current full-time student\, we will provide you with a student discount code.
URL:https://marqueegroup.ca/event/merger-modeling-toronto-marquee/
LOCATION:The Marquee Group\, 56 Temperance St\, 2nd Floor\, Toronto\, Ontario\, M5H 3V5\, Canada
ORGANIZER;CN="The Marquee Group":MAILTO:tickets@marqueegroup.ca
END:VEVENT
END:VCALENDAR