BEGIN:VCALENDAR
VERSION:2.0
PRODID:-//The Marquee Group - ECPv6.15.20//NONSGML v1.0//EN
CALSCALE:GREGORIAN
METHOD:PUBLISH
X-ORIGINAL-URL:https://marqueegroup.ca
X-WR-CALDESC:Events for The Marquee Group
REFRESH-INTERVAL;VALUE=DURATION:PT1H
X-Robots-Tag:noindex
X-PUBLISHED-TTL:PT1H
BEGIN:VTIMEZONE
TZID:America/Toronto
BEGIN:DAYLIGHT
TZOFFSETFROM:-0500
TZOFFSETTO:-0400
TZNAME:EDT
DTSTART:20190310T070000
END:DAYLIGHT
BEGIN:STANDARD
TZOFFSETFROM:-0400
TZOFFSETTO:-0500
TZNAME:EST
DTSTART:20191103T060000
END:STANDARD
BEGIN:DAYLIGHT
TZOFFSETFROM:-0500
TZOFFSETTO:-0400
TZNAME:EDT
DTSTART:20200308T070000
END:DAYLIGHT
BEGIN:STANDARD
TZOFFSETFROM:-0400
TZOFFSETTO:-0500
TZNAME:EST
DTSTART:20201101T060000
END:STANDARD
BEGIN:DAYLIGHT
TZOFFSETFROM:-0500
TZOFFSETTO:-0400
TZNAME:EDT
DTSTART:20210314T070000
END:DAYLIGHT
BEGIN:STANDARD
TZOFFSETFROM:-0400
TZOFFSETTO:-0500
TZNAME:EST
DTSTART:20211107T060000
END:STANDARD
END:VTIMEZONE
BEGIN:VEVENT
DTSTART;TZID=America/Toronto:20201104T083000
DTEND;TZID=America/Toronto:20201104T170000
DTSTAMP:20260421T060913
CREATED:20200731T175809Z
LAST-MODIFIED:20201105T205611Z
UID:8439-1604478600-1604509200@marqueegroup.ca
SUMMARY:Building a Financial Model (of a Company)
DESCRIPTION:Please note that this session will be offered as a Webinar.\nDescription\nThis hands-on course focuses on the skills required to design and create an interactive financial model of a company that adheres to the highest industry standards. The course material includes model design\, logic\, construction\, financial concepts and accounting treatment. During the seminar\, participants will build a model that includes a forecast of a company’s income statement\, cash flow statement and balance sheet. PLEASE NOTE\, all course times are ET. \nView Full Outline\nWho Will Benefit\nThis seminar is designed for anyone who wish to improve their financial modelling skills and those involved in preparing financial budgets\, forecasts and business valuation. \nEligible for CFA & CPA professional development hours. \nSpecial Instructions\n\nParticipants will be sent a link in advance of the course and must use their computer to participate.\nMicrosoft Excel is required for this session.\nParticipants should have experience using Excel prior to attending.
URL:https://marqueegroup.ca/event/fre32/
ORGANIZER;CN="The Marquee Group":MAILTO:tickets@marqueegroup.ca
END:VEVENT
BEGIN:VEVENT
DTSTART;TZID=America/Toronto:20201105T083000
DTEND;TZID=America/Toronto:20201105T170000
DTSTAMP:20260421T060913
CREATED:20200922T173416Z
LAST-MODIFIED:20201105T014531Z
UID:8474-1604565000-1604595600@marqueegroup.ca
SUMMARY:Valuation 1: DCF
DESCRIPTION:Please note that this session will be offered as a Webinar.\nDescription\nThis hands-on course is focused on the practical implementation of a Discounted Cash Flow (“DCF”) valuation analysis. The skills required to build a DCF analysis will be discussed and incorporated into a financial model. Participants will learn to recognize and avoid the most common errors that finance professionals make when creating a DCF analysis. This course will also include a number of Excel tips and skills to help a user check and audit a financial model. Please note\, all course times are EST. \nView Full Outline\nWho Will Benefit\nThis seminar is designed for anyone who wish to improve their financial modelling skills and those involved in preparing financial budgets\, forecasts and business valuation. \nEligible for CFA & CPA professional development hours. \nSpecial Instructions\n\nParticipants will be sent a link in advance of the course and must use their computer to participate.\nMicrosoft Excel is required for this session.\nParticipants should have experience using Excel and familiarity with basic accounting principles prior to attending
URL:https://marqueegroup.ca/event/fde45/
ORGANIZER;CN="The Marquee Group":MAILTO:tickets@marqueegroup.ca
END:VEVENT
BEGIN:VEVENT
DTSTART;VALUE=DATE:20201112
DTEND;VALUE=DATE:20201113
DTSTAMP:20260421T060913
CREATED:20200731T175735Z
LAST-MODIFIED:20201118T135310Z
UID:8933-1605139200-1605225599@marqueegroup.ca
SUMMARY:Free Excel 365 Webinar (Dynamic Arrays)
DESCRIPTION:Note: This one-hour webinar was recorded live on November 12\, 2020 and can be accessed by clicking the link at the bottom of this page. This session gives a high-level overview of key features – to learn more\, register for our half-day webinar (including small class-sizes & hands-on assignments). Registration link for the half-day session is also at the bottom of this page. \nFor many decades\, “the core” of Microsoft’s Excel has remained the same. We type a formula in one cell\, hit enter\, and then receive results in the same cell. With recent changes to Excel under Microsoft 365\, significant aspects of this behaviour have changed with the introduction of Dynamic Arrays and associated functions. It is now possible to write a formula in a single cell that will populate multiple cells (a few… or a few thousand)\, and we can refer to those cells in new and helpful ways. \nThis webinar will provide an overview of the following topics: \n\nWhat are Dynamic Arrays\, and how will this change affect how you use spreadsheets in your day-to-day workflow?\nHow can we leverage the power of Dynamic Arrays (and new associated functions) to make previously challenging data analysis tasks faster and less error prone?\nHow can I “CTRL+Z” this behaviour so that Excel behaves in the way I am used to it behaving?\nHow might Dynamic Arrays change the landscape of financial modeling & analysis?\n\nThe activities undertaken during this webinar will make heavy use of Microsoft 365 features. If you have an older version of Excel\, you will not be able to follow along\, but you will get a feel for the new features. \n 
URL:https://marqueegroup.ca/event/rva92/
ORGANIZER;CN="The Marquee Group":MAILTO:tickets@marqueegroup.ca
END:VEVENT
BEGIN:VEVENT
DTSTART;TZID=America/Toronto:20201118T083000
DTEND;TZID=America/Toronto:20201118T170000
DTSTAMP:20260421T060913
CREATED:20200731T173952Z
LAST-MODIFIED:20201113T155456Z
UID:8498-1605688200-1605718800@marqueegroup.ca
SUMMARY:Capital Structure (LBO) Modeling
DESCRIPTION:Please note that this session will be offered as a Webinar.\nDescription \nThis hands-on course focuses on the skills required to build and incorporate a complex capital structure into a financial model. Participants will recapitalize a company’s balance sheet and then forecast specific pieces of debt and equity so that the model can be used for credit purposes or as a Leveraged Buyout (“LBO”) model. PLEASE NOTE\, all course times are EST. \nView Full Outline\nWho Will Benefit\nThis seminar is designed for anyone who wish to improve their financial modelling skills and those involved in preparing financial budgets\, forecasts and business valuation. \nEligible for CFA & CPA professional development hours. \nSpecial Instructions\n\nParticipants will be sent a link in advance of the course and must use their computer to participate.\nMicrosoft Excel is required for this session.\nParticipants should have experience using Excel and familiarity with basic accounting principles prior to attending.
URL:https://marqueegroup.ca/event/qwe23/
ORGANIZER;CN="The Marquee Group":MAILTO:tickets@marqueegroup.ca
END:VEVENT
BEGIN:VEVENT
DTSTART;TZID=America/Toronto:20201125T083000
DTEND;TZID=America/Toronto:20201126T170000
DTSTAMP:20260421T060913
CREATED:20190625T185807Z
LAST-MODIFIED:20201124T182040Z
UID:8507-1606293000-1606410000@marqueegroup.ca
SUMMARY:Real Estate Development Project Modeling
DESCRIPTION:Please note that this session will be offered as a Webinar.\nDescription\nThis course reviews real estate project finance concepts and focuses on the skills required to design and create a model to help finance professionals evaluate a real estate development investment. In the course we review a case study for a mixed-use development project and examine concepts including model design\, logic\, project timing and various phases and various financing structures. Various intermediate and advanced Excel tools along with helpful keyboard shortcuts will also be covered throughout the course. PLEASE NOTE\, all course times are EST. \nView Full Outline \nWho Will Benefit\nThis seminar is designed for anyone who wish to improve their financial modelling skills and those involved in preparing financial budgets\, forecasts and business valuation. \nEligible for CFA & CPA professional development hours. \nSpecial Instructions\n\nParticipants will be sent a link in advance of the course and must use their computer to participate.\nMicrosoft Excel is required for this session.\nParticipants should have experience using Excel prior to attending.
URL:https://marqueegroup.ca/event/ert63/
CATEGORIES:CAD
ORGANIZER;CN="The Marquee Group":MAILTO:tickets@marqueegroup.ca
END:VEVENT
END:VCALENDAR